BEGIN:VCALENDAR
VERSION:2.0
PRODID:-//hacksw/handcal//NONSGML v1.0//EN
BEGIN:VEVENT
SUMMARY:RANDONNEE LA PANORAMIQUE
UID:fa83c69a-0501-4c81-b493-684b15ae88db
DTSTART:20260926T060000Z
DTEND:20260926T120000Z
LOCATION:Localisation SALLE PANORAMIQUE A LA MAIRIE 07 OZON
CATEGORIES:Sportif
STATUS:
DESCRIPTION:<p>ROUTE: 34/ 42/ 50/ 92 KM</p>
 
 <p>TARIFS: 11€  FFCT:
 8€</p>
URL;VALUE=URI:https://www.velo-club-valrhona-tain-tournon.com/evenements/2026/09/26/randonnee-la-panoramique-2443558
END:VEVENT
END:VCALENDAR
