BEGIN:VCALENDAR
VERSION:2.0
PRODID:-//hacksw/handcal//NONSGML v1.0//EN
BEGIN:VEVENT
SUMMARY:LES PORTES DU VAL DE DROME
UID:e8ef97c5-02f5-4267-8f31-4e7bcc9d24c8
DTSTART:20260926T050000Z
DTEND:20260926T080000Z
LOCATION:Localisation SALLE DES FETES 26 MONTOISON
CATEGORIES:Sportif
STATUS:
DESCRIPTION:<p>ROUTE: 50/ 70/ 110 KM</p>
 
 <p>TARIFS: 10€  FFCT:
 7€</p>
URL;VALUE=URI:https://www.velo-club-valrhona-tain-tournon.com/evenements/2026/09/26/les-portes-du-val-de-drome-2443560
END:VEVENT
END:VCALENDAR
