BEGIN:VCALENDAR
VERSION:2.0
PRODID:-//hacksw/handcal//NONSGML v1.0//EN
BEGIN:VEVENT
SUMMARY:CYCLADE DES COLLINES
UID:a5e2e94a-b142-4df5-8891-ed4868e6d453
DTSTART:20260517T050000Z
DTEND:20260517T070000Z
LOCATION:Localisation 8 RUE DE LA MAIRIE 26 LES GRANGES GONTARDES
CATEGORIES:Sportif
STATUS:
DESCRIPTION:<p>ROUTE 60 / 80 / 100 KM</p>
 
 <p>VTT 35 / 45 /
 KM</p>
 
 <p>GRAVEL 80 KM</p>
 
 <p>MARCHE 8 / 15 KM</p>
 
 <p>TARIF
 10€    FFCT 8€</p>
URL;VALUE=URI:https://www.velo-club-valrhona-tain-tournon.com/evenements/2026/05/17/cyclade-des-collines-2443527
END:VEVENT
END:VCALENDAR
