BEGIN:VCALENDAR
VERSION:2.0
PRODID:-//hacksw/handcal//NONSGML v1.0//EN
BEGIN:VEVENT
SUMMARY:LES COTES VIVAROISES
UID:09a99aa6-509f-43c8-8464-95861cfe781d
DTSTART:20260516T050000Z
DTEND:20260516T090000Z
LOCATION:Localisation STADE MISTRAL 07 GUILHERAND GRANGES
CATEGORIES:Sportif
STATUS:
DESCRIPTION:<p>ROUTE   40 / 105 / 124 / 144 KM</p>
 
 <p>TARIF 11€
 FFCT 8€  </p>
URL;VALUE=URI:https://www.velo-club-valrhona-tain-tournon.com/evenements/2026/05/16/les-cotes-vivaroises-2443525
END:VEVENT
END:VCALENDAR
