BEGIN:VCALENDAR
VERSION:2.0
PRODID:-//hacksw/handcal//NONSGML v1.0//EN
BEGIN:VEVENT
SUMMARY:la roanne crest
UID:b22a8e04-47f6-4b1d-aa09-91b6556aa7f6
DTSTART:20260514T050000Z
DTEND:20260514T080000Z
LOCATION:Localisation ESPACE SOUBEYRAN 26 CREST
CATEGORIES:Sportif
STATUS:
DESCRIPTION:<p>ROUTE </p>
 
 <p>46 / 95 / 132 / 166
 KM</p>
 
 <p>VTT</p>
 
 <p>36 / 45 / 56 KM</p>
 
 <p>MARCHE</p>
 
 <p>8 / 10
 / 17 KM</p>
 
 <p>TARIF 12€  FFCT 9€  GRATUIT - 18 ANS</p>
URL;VALUE=URI:https://www.velo-club-valrhona-tain-tournon.com/evenements/2026/05/14/la-roanne-crest-2443524
END:VEVENT
END:VCALENDAR
