BEGIN:VCALENDAR
VERSION:2.0
PRODID:-//hacksw/handcal//NONSGML v1.0//EN
BEGIN:VEVENT
SUMMARY:LES RUSTINES
UID:61651106-7312-4be4-9fba-909176a463ed
DTSTART:20260509T053000Z
DTEND:20260509T120000Z
LOCATION:Localisation ESPACE MILLESIME 26600 CROZES HERMITAGE
CATEGORIES:Sportif
STATUS:
DESCRIPTION:<p>30 KM 350 D+   / 60KM 850 D+ / 90KM   1450 D+ /
 130 KM 2100 D+</p>
 
 <p>TARIF 10€   </p>
 
 <p> </p>
URL;VALUE=URI:https://www.velo-club-valrhona-tain-tournon.com/evenements/2026/05/09/les-rustines-2443521
END:VEVENT
END:VCALENDAR
