BEGIN:VCALENDAR
VERSION:2.0
PRODID:-//hacksw/handcal//NONSGML v1.0//EN
BEGIN:VEVENT
SUMMARY:RANDO DU MUGUET
UID:3de72a1f-130e-4261-bf06-95f92af47d4e
DTSTART:20260508T050000Z
DTEND:20260508T080000Z
LOCATION:Localisation SALLE DES FETES ESPACE DES BUIS 26 MARSANNE
CATEGORIES:Sportif
STATUS:
DESCRIPTION:<p>ROUTE  VTT  MARCHE</p>
 
 <p>ROUTE 40 / 70 / 90 / 110
 KM</p>
 
 <p>MARCHE 7 / 14 / 21 KM</p>
 
 <p>VTT 22 / 28 / 38
 KM</p>
 
 <p>TARIF 9€   FFCT 7€</p>
 
 <p>GRATUIT - 18 ANS</p>
URL;VALUE=URI:https://www.velo-club-valrhona-tain-tournon.com/evenements/2026/05/08/rando-du-muguet-2443522
END:VEVENT
END:VCALENDAR
