BEGIN:VCALENDAR
VERSION:2.0
PRODID:-//hacksw/handcal//NONSGML v1.0//EN
BEGIN:VEVENT
SUMMARY:TREFLE DU FAYET
UID:83328aa6-6edf-4784-84de-da8c3873a6b6
DTSTART:20260502T110000Z
DTEND:20260502T120000Z
LOCATION:Localisation   
CATEGORIES:Sportif
STATUS:
DESCRIPTION:<p>Dans le cadre de l'operation Mai a velo, Les
 Cyclotouristes Annoneens organisent une randonnee cyclotouriste non
 chronometree et non competitive. Cette randonnee gratuite est
 constituee de 1 a 5 boucles autour du Trefle du Fayet. Depart depuis
 le site de Vidalon a Davezieux le samedi 2 mai entre 13h et 14h.
 Cette randonnee est ouverte aux VAE et velo musculaires. Elle permet
 a tous les types de cyclistes de participer.</p>
URL;VALUE=URI:https://www.velo-club-valrhona-tain-tournon.com/evenements/2026/05/02/trefle-du-fayet-2443519
END:VEVENT
END:VCALENDAR
