BEGIN:VCALENDAR
VERSION:2.0
PRODID:-//hacksw/handcal//NONSGML v1.0//EN
BEGIN:VEVENT
SUMMARY:RANDO DU NOUGAT
UID:fd263f39-dee0-4e2c-96df-656726204575
DTSTART:20260502T053000Z
DTEND:20260502T080000Z
LOCATION:Localisation CENTRE AERE BOIS DU LION 26 MONTELIMAR
CATEGORIES:Sportif
STATUS:
DESCRIPTION:<p>ROUTE 60 / 85 / 120 / 150 KM</p>
 
 <p>TARIF 12€   
 FFCT 10€    - 18 ANS GRATUIT</p>
URL;VALUE=URI:https://www.velo-club-valrhona-tain-tournon.com/evenements/2026/05/02/rando-du-nougat-2443514
END:VEVENT
END:VCALENDAR
